BEGIN:VCALENDAR
PRODID:scnitm
VERSION:2.0
BEGIN:VTIMEZONE
TZID:my/AEST
BEGIN:STANDARD
DTSTART:19700101T010000
TZOFFSETFROM:+1000
TZOFFSETTO:+1000
END:STANDARD
END:VTIMEZONE
BEGIN:VTIMEZONE
TZID:my/AEDT
BEGIN:STANDARD
DTSTART:19700101T010000
TZOFFSETFROM:+1100
TZOFFSETTO:+1100
END:STANDARD
END:VTIMEZONE
BEGIN:VEVENT
UID:scnitm-3358024-1776773790-1
DTSTART;TZID=my/AEST:20100415T130000
DTEND;TZID=my/AEST:20100415T140000
SUMMARY:SUMS: Lobo -- Prime Numbers: How wide can you go?
DESCRIPTION:See scnews item https://talus.maths.usyd.edu.au/s/scnitm/yzhang-SUMS-Lobo-PrimeNumbers-Ho
LOCATION:Carslaw 452
END:VEVENT
END:VCALENDAR

