BEGIN:VCALENDAR
PRODID:scnitm
VERSION:2.0
BEGIN:VTIMEZONE
TZID:my/AEST
BEGIN:STANDARD
DTSTART:19700101T010000
TZOFFSETFROM:+1000
TZOFFSETTO:+1000
END:STANDARD
END:VTIMEZONE
BEGIN:VTIMEZONE
TZID:my/AEDT
BEGIN:STANDARD
DTSTART:19700101T010000
TZOFFSETFROM:+1100
TZOFFSETTO:+1100
END:STANDARD
END:VTIMEZONE
BEGIN:VEVENT
UID:scnitm-3377341-1776777965-1
DTSTART;TZID=my/AEST:20090424T140000
DTEND;TZID=my/AEST:20090424T151500
SUMMARY:Statistics Seminar: Samuel Mueller -- Smooth extreme value estimation for densities with log-concave tails
DESCRIPTION:See scnews item https://talus.maths.usyd.edu.au/s/scnitm/uri-StatisticsSeminar-SamuelM
LOCATION:Carslaw 173
END:VEVENT
END:VCALENDAR

