BEGIN:VCALENDAR
PRODID:scnitm
VERSION:2.0
BEGIN:VTIMEZONE
TZID:my/AEST
BEGIN:STANDARD
DTSTART:19700101T010000
TZOFFSETFROM:+1000
TZOFFSETTO:+1000
END:STANDARD
END:VTIMEZONE
BEGIN:VTIMEZONE
TZID:my/AEDT
BEGIN:STANDARD
DTSTART:19700101T010000
TZOFFSETFROM:+1100
TZOFFSETTO:+1100
END:STANDARD
END:VTIMEZONE
BEGIN:VEVENT
UID:scnitm-3352161-1776772926-1
DTSTART;TZID=my/AEDT:20201211
SUMMARY:The Mathematical Educational Software Interest Group Annual Workshop
DESCRIPTION:See scnews item https://talus.maths.usyd.edu.au/s/scnitm/tim-MathematicalEducationalSo
END:VEVENT
END:VCALENDAR

