BEGIN:VCALENDAR
PRODID:scnitm
VERSION:2.0
BEGIN:VTIMEZONE
TZID:my/AEST
BEGIN:STANDARD
DTSTART:19700101T010000
TZOFFSETFROM:+1000
TZOFFSETTO:+1000
END:STANDARD
END:VTIMEZONE
BEGIN:VTIMEZONE
TZID:my/AEDT
BEGIN:STANDARD
DTSTART:19700101T010000
TZOFFSETFROM:+1100
TZOFFSETTO:+1100
END:STANDARD
END:VTIMEZONE
BEGIN:VEVENT
UID:scnitm-3356287-1776773548-1
DTSTART;TZID=my/AEST:20240930T150000
DTEND;TZID=my/AEST:20240930T160000
SUMMARY:Statistics Seminar: Kandanaarachchi -- Representing Sparse Graphs with Graphons: Challenges and Approaches
DESCRIPTION:See scnews item https://talus.maths.usyd.edu.au/s/scnitm/tcui-StatisticsSeminar-Kandana
LOCATION:Access Grid Room AGR 829
END:VEVENT
END:VCALENDAR

