BEGIN:VCALENDAR
PRODID:scnitm
VERSION:2.0
BEGIN:VTIMEZONE
TZID:my/AEST
BEGIN:STANDARD
DTSTART:19700101T010000
TZOFFSETFROM:+1000
TZOFFSETTO:+1000
END:STANDARD
END:VTIMEZONE
BEGIN:VTIMEZONE
TZID:my/AEDT
BEGIN:STANDARD
DTSTART:19700101T010000
TZOFFSETFROM:+1100
TZOFFSETTO:+1100
END:STANDARD
END:VTIMEZONE
BEGIN:VEVENT
UID:scnitm-3377751-1776778069-1
DTSTART;TZID=my/AEDT:20180302T150000
DTEND;TZID=my/AEDT:20180302T160000
SUMMARY:MQ Math Colloquium: Joshi: Symmetry through geometry
DESCRIPTION:See scnews item https://talus.maths.usyd.edu.au/s/scnitm/sswanson-MacquarieUniversityMathem
LOCATION:E7B 146 (ACE room)
END:VEVENT
END:VCALENDAR

