BEGIN:VCALENDAR
PRODID:scnitm
VERSION:2.0
BEGIN:VTIMEZONE
TZID:my/AEST
BEGIN:STANDARD
DTSTART:19700101T010000
TZOFFSETFROM:+1000
TZOFFSETTO:+1000
END:STANDARD
END:VTIMEZONE
BEGIN:VTIMEZONE
TZID:my/AEDT
BEGIN:STANDARD
DTSTART:19700101T010000
TZOFFSETFROM:+1100
TZOFFSETTO:+1100
END:STANDARD
END:VTIMEZONE
BEGIN:VEVENT
UID:scnitm-3360261-1776774052-1
DTSTART;TZID=my/AEST:20160519T130000
DTEND;TZID=my/AEST:20160519T140000
SUMMARY:SUMS: Wang, Lan, Gruenewald -- Lightning Talks
DESCRIPTION:See scnews item https://talus.maths.usyd.edu.au/s/scnitm/seangard-SUMS-Wang-Lan-Gruenewald-
LOCATION:New Law 024
END:VEVENT
END:VCALENDAR

