BEGIN:VCALENDAR
PRODID:scnitm
VERSION:2.0
BEGIN:VTIMEZONE
TZID:my/AEST
BEGIN:STANDARD
DTSTART:19700101T010000
TZOFFSETFROM:+1000
TZOFFSETTO:+1000
END:STANDARD
END:VTIMEZONE
BEGIN:VTIMEZONE
TZID:my/AEDT
BEGIN:STANDARD
DTSTART:19700101T010000
TZOFFSETFROM:+1100
TZOFFSETTO:+1100
END:STANDARD
END:VTIMEZONE
BEGIN:VEVENT
UID:scnitm-3355554-1776773475-1
DTSTART;TZID=my/AEST:20160407T130000
DTEND;TZID=my/AEST:20160407T140000
SUMMARY:SUMS: Tran -- The Base 12 Counting System: A Superior Alternative to the Decimal System
DESCRIPTION:See scnews item https://talus.maths.usyd.edu.au/s/scnitm/seangard-SUMS-Tran-TheBase12Counti
LOCATION:New Law 024
END:VEVENT
END:VCALENDAR

