BEGIN:VCALENDAR
PRODID:scnitm
VERSION:2.0
BEGIN:VTIMEZONE
TZID:my/AEST
BEGIN:STANDARD
DTSTART:19700101T010000
TZOFFSETFROM:+1000
TZOFFSETTO:+1000
END:STANDARD
END:VTIMEZONE
BEGIN:VTIMEZONE
TZID:my/AEDT
BEGIN:STANDARD
DTSTART:19700101T010000
TZOFFSETFROM:+1100
TZOFFSETTO:+1100
END:STANDARD
END:VTIMEZONE
BEGIN:VEVENT
UID:scnitm-3355501-1776773471-1
DTSTART;TZID=my/AEDT:20230306T150000
DTEND;TZID=my/AEDT:20230306T160000
SUMMARY:On a class of GJMS equations on the standard n-sphere
DESCRIPTION:See scnews item https://talus.maths.usyd.edu.au/s/scnitm/sanjana-Asia-PacificAnalysisAndPD-004
LOCATION:Zoom webinar
END:VEVENT
END:VCALENDAR

