BEGIN:VCALENDAR
PRODID:scnitm
VERSION:2.0
BEGIN:VTIMEZONE
TZID:my/AEST
BEGIN:STANDARD
DTSTART:19700101T010000
TZOFFSETFROM:+1000
TZOFFSETTO:+1000
END:STANDARD
END:VTIMEZONE
BEGIN:VTIMEZONE
TZID:my/AEDT
BEGIN:STANDARD
DTSTART:19700101T010000
TZOFFSETFROM:+1100
TZOFFSETTO:+1100
END:STANDARD
END:VTIMEZONE
BEGIN:VEVENT
UID:scnitm-3378037-1776778159-1
DTSTART;TZID=my/AEDT:20071210T090000
DTEND;TZID=my/AEDT:20071210T170000
SUMMARY:Workshop -- Recent advances in asymptotic probability and statistics
DESCRIPTION:See scnews item https://talus.maths.usyd.edu.au/s/scnitm/rkuli-Workshop-RecentAdvancesIn
LOCATION:Carslaw 173
END:VEVENT
BEGIN:VEVENT
UID:scnitm-3378037-1776778159-2
DTSTART;TZID=my/AEDT:20071211T090000
DTEND;TZID=my/AEDT:20071211T170000
SUMMARY:Workshop -- Recent advances in asymptotic probability and statistics
DESCRIPTION:See scnews item https://talus.maths.usyd.edu.au/s/scnitm/rkuli-Workshop-RecentAdvancesIn
LOCATION:Carslaw 173
END:VEVENT
BEGIN:VEVENT
UID:scnitm-3378037-1776778159-3
DTSTART;TZID=my/AEDT:20071212T090000
DTEND;TZID=my/AEDT:20071212T170000
SUMMARY:Workshop -- Recent advances in asymptotic probability and statistics
DESCRIPTION:See scnews item https://talus.maths.usyd.edu.au/s/scnitm/rkuli-Workshop-RecentAdvancesIn
LOCATION:Carslaw 173
END:VEVENT
END:VCALENDAR

