BEGIN:VCALENDAR
PRODID:scnitm
VERSION:2.0
BEGIN:VTIMEZONE
TZID:my/AEST
BEGIN:STANDARD
DTSTART:19700101T010000
TZOFFSETFROM:+1000
TZOFFSETTO:+1000
END:STANDARD
END:VTIMEZONE
BEGIN:VTIMEZONE
TZID:my/AEDT
BEGIN:STANDARD
DTSTART:19700101T010000
TZOFFSETFROM:+1100
TZOFFSETTO:+1100
END:STANDARD
END:VTIMEZONE
BEGIN:VEVENT
UID:scnitm-3359186-1776773919-1
DTSTART;TZID=my/AEST:20240830T140000
DTEND;TZID=my/AEST:20240830T160000
SUMMARY:Unsw&Usyd Iss
DESCRIPTION:See scnews item https://talus.maths.usyd.edu.au/s/scnitm/pieter-UNSW-USYDJointSeminar-Ell
LOCATION:UNSW: Anita B Lawrence (H13) Room 3085
END:VEVENT
BEGIN:VEVENT
UID:scnitm-3359186-1776773919-2
DTSTART;TZID=my/AEST:20240906T140000
DTEND;TZID=my/AEST:20240906T160000
SUMMARY:Unsw&Usyd Iss
DESCRIPTION:See scnews item https://talus.maths.usyd.edu.au/s/scnitm/pieter-UNSW-USYDJointSeminar-Ell
LOCATION:USYD: SMRI seminar room - Macleay Building (A12) Room 301
END:VEVENT
BEGIN:VEVENT
UID:scnitm-3359186-1776773919-3
DTSTART;TZID=my/AEST:20240913T140000
DTEND;TZID=my/AEST:20240913T160000
SUMMARY:Unsw&Usyd Iss
DESCRIPTION:See scnews item https://talus.maths.usyd.edu.au/s/scnitm/pieter-UNSW-USYDJointSeminar-Ell
LOCATION:UNSW: Anita B Lawrence (H13) Room 3085
END:VEVENT
BEGIN:VEVENT
UID:scnitm-3359186-1776773919-4
DTSTART;TZID=my/AEST:20240920T140000
DTEND;TZID=my/AEST:20240920T160000
SUMMARY:Unsw&Usyd Iss
DESCRIPTION:See scnews item https://talus.maths.usyd.edu.au/s/scnitm/pieter-UNSW-USYDJointSeminar-Ell
LOCATION:USYD: SMRI seminar room - Macleay Building (A12) Room 301
END:VEVENT
BEGIN:VEVENT
UID:scnitm-3359186-1776773919-5
DTSTART;TZID=my/AEST:20240927T140000
DTEND;TZID=my/AEST:20240927T160000
SUMMARY:Unsw&Usyd Iss
DESCRIPTION:See scnews item https://talus.maths.usyd.edu.au/s/scnitm/pieter-UNSW-USYDJointSeminar-Ell
LOCATION:UNSW: Anita B Lawrence (H13) Room 3085
END:VEVENT
BEGIN:VEVENT
UID:scnitm-3359186-1776773919-6
DTSTART;TZID=my/AEST:20241004T140000
DTEND;TZID=my/AEST:20241004T160000
SUMMARY:Unsw&Usyd Iss
DESCRIPTION:See scnews item https://talus.maths.usyd.edu.au/s/scnitm/pieter-UNSW-USYDJointSeminar-Ell
LOCATION:USYD: SMRI seminar room - Macleay Building (A12) Room 301
END:VEVENT
BEGIN:VEVENT
UID:scnitm-3359186-1776773919-7
DTSTART;TZID=my/AEDT:20241011T140000
DTEND;TZID=my/AEDT:20241011T160000
SUMMARY:Unsw&Usyd Iss
DESCRIPTION:See scnews item https://talus.maths.usyd.edu.au/s/scnitm/pieter-UNSW-USYDJointSeminar-Ell
LOCATION:UNSW: Anita B Lawrence (H13) Room 3085
END:VEVENT
BEGIN:VEVENT
UID:scnitm-3359186-1776773919-8
DTSTART;TZID=my/AEDT:20241018T140000
DTEND;TZID=my/AEDT:20241018T160000
SUMMARY:Unsw&Usyd Iss
DESCRIPTION:See scnews item https://talus.maths.usyd.edu.au/s/scnitm/pieter-UNSW-USYDJointSeminar-Ell
LOCATION:USYD: SMRI seminar room - Macleay Building (A12) Room 301
END:VEVENT
BEGIN:VEVENT
UID:scnitm-3359186-1776773919-9
DTSTART;TZID=my/AEDT:20241025T140000
DTEND;TZID=my/AEDT:20241025T160000
SUMMARY:Unsw&Usyd Iss
DESCRIPTION:See scnews item https://talus.maths.usyd.edu.au/s/scnitm/pieter-UNSW-USYDJointSeminar-Ell
LOCATION:UNSW: Anita B Lawrence (H13) Room 3085
END:VEVENT
BEGIN:VEVENT
UID:scnitm-3359186-1776773919-10
DTSTART;TZID=my/AEDT:20241101T140000
DTEND;TZID=my/AEDT:20241101T160000
SUMMARY:Unsw&Usyd Iss
DESCRIPTION:See scnews item https://talus.maths.usyd.edu.au/s/scnitm/pieter-UNSW-USYDJointSeminar-Ell
LOCATION:USYD: SMRI seminar room - Macleay Building (A12) Room 301
END:VEVENT
BEGIN:VEVENT
UID:scnitm-3359186-1776773919-11
DTSTART;TZID=my/AEDT:20241108T140000
DTEND;TZID=my/AEDT:20241108T160000
SUMMARY:Unsw&Usyd Iss
DESCRIPTION:See scnews item https://talus.maths.usyd.edu.au/s/scnitm/pieter-UNSW-USYDJointSeminar-Ell
LOCATION:UNSW: Anita B Lawrence (H13) Room 3085
END:VEVENT
BEGIN:VEVENT
UID:scnitm-3359186-1776773919-12
DTSTART;TZID=my/AEDT:20241115T140000
DTEND;TZID=my/AEDT:20241115T160000
SUMMARY:Unsw&Usyd Iss
DESCRIPTION:See scnews item https://talus.maths.usyd.edu.au/s/scnitm/pieter-UNSW-USYDJointSeminar-Ell
LOCATION:USYD: SMRI seminar room - Macleay Building (A12) Room 301
END:VEVENT
BEGIN:VEVENT
UID:scnitm-3359186-1776773919-13
DTSTART;TZID=my/AEDT:20241122T140000
DTEND;TZID=my/AEDT:20241122T160000
SUMMARY:Unsw&Usyd Iss
DESCRIPTION:See scnews item https://talus.maths.usyd.edu.au/s/scnitm/pieter-UNSW-USYDJointSeminar-Ell
LOCATION:UNSW: Anita B Lawrence (H13) Room 3085
END:VEVENT
BEGIN:VEVENT
UID:scnitm-3359186-1776773919-14
DTSTART;TZID=my/AEDT:20241129T140000
DTEND;TZID=my/AEDT:20241129T160000
SUMMARY:Unsw&Usyd Iss
DESCRIPTION:See scnews item https://talus.maths.usyd.edu.au/s/scnitm/pieter-UNSW-USYDJointSeminar-Ell
LOCATION:USYD: SMRI seminar room - Macleay Building (A12) Room 301
END:VEVENT
END:VCALENDAR

