BEGIN:VCALENDAR
PRODID:scnitm
VERSION:2.0
BEGIN:VTIMEZONE
TZID:my/AEST
BEGIN:STANDARD
DTSTART:19700101T010000
TZOFFSETFROM:+1000
TZOFFSETTO:+1000
END:STANDARD
END:VTIMEZONE
BEGIN:VTIMEZONE
TZID:my/AEDT
BEGIN:STANDARD
DTSTART:19700101T010000
TZOFFSETFROM:+1100
TZOFFSETTO:+1100
END:STANDARD
END:VTIMEZONE
BEGIN:VEVENT
UID:scnitm-3359597-1776773957-1
DTSTART;TZID=my/AEDT:20151106T120000
DTEND;TZID=my/AEDT:20151106T130000
SUMMARY:Virtual Koornwinder integrals and Rogers-Ramanujan identities
DESCRIPTION:See scnews item https://talus.maths.usyd.edu.au/s/scnitm/oyacobi-AlgebraSeminar-OleWarnaar
LOCATION:Carslaw 375
END:VEVENT
END:VCALENDAR

