BEGIN:VCALENDAR
PRODID:scnitm
VERSION:2.0
BEGIN:VTIMEZONE
TZID:my/AEST
BEGIN:STANDARD
DTSTART:19700101T010000
TZOFFSETFROM:+1000
TZOFFSETTO:+1000
END:STANDARD
END:VTIMEZONE
BEGIN:VTIMEZONE
TZID:my/AEDT
BEGIN:STANDARD
DTSTART:19700101T010000
TZOFFSETFROM:+1100
TZOFFSETTO:+1100
END:STANDARD
END:VTIMEZONE
BEGIN:VEVENT
UID:scnitm-3355560-1776773476-1
DTSTART;TZID=my/AEST:20100922T160000
DTEND;TZID=my/AEST:20100922T170000
SUMMARY:Postgrad seminar--expat special!: Tang -- The mapping class group and the curve complex
DESCRIPTION:See scnews item https://talus.maths.usyd.edu.au/s/scnitm/marym-PostgradSeminar-expatSpec
LOCATION:Eastern Ave 404
END:VEVENT
END:VCALENDAR

