BEGIN:VCALENDAR
PRODID:scnitm
VERSION:2.0
BEGIN:VTIMEZONE
TZID:my/AEST
BEGIN:STANDARD
DTSTART:19700101T010000
TZOFFSETFROM:+1000
TZOFFSETTO:+1000
END:STANDARD
END:VTIMEZONE
BEGIN:VTIMEZONE
TZID:my/AEDT
BEGIN:STANDARD
DTSTART:19700101T010000
TZOFFSETFROM:+1100
TZOFFSETTO:+1100
END:STANDARD
END:VTIMEZONE
BEGIN:VEVENT
UID:scnitm-3354862-1776773390-1
DTSTART;TZID=my/AEST:20240604T140000
DTEND;TZID=my/AEST:20240604T150000
SUMMARY:Statistics Seminar: Wei -- Meta-clustering of Gene Expression Data
DESCRIPTION:See scnews item https://talus.maths.usyd.edu.au/s/scnitm/linhn-StatisticsSeminar-Wei-Ten
END:VEVENT
END:VCALENDAR

