BEGIN:VCALENDAR
PRODID:scnitm
VERSION:2.0
BEGIN:VTIMEZONE
TZID:my/AEST
BEGIN:STANDARD
DTSTART:19700101T010000
TZOFFSETFROM:+1000
TZOFFSETTO:+1000
END:STANDARD
END:VTIMEZONE
BEGIN:VTIMEZONE
TZID:my/AEDT
BEGIN:STANDARD
DTSTART:19700101T010000
TZOFFSETFROM:+1100
TZOFFSETTO:+1100
END:STANDARD
END:VTIMEZONE
BEGIN:VEVENT
UID:scnitm-3355081-1776773432-1
DTSTART;TZID=my/AEST:20240925T110000
DTEND;TZID=my/AEST:20240925T120000
SUMMARY:Functional Nonlinear Learning
DESCRIPTION:See scnews item https://talus.maths.usyd.edu.au/s/scnitm/linhn-StatisticsSeminar-Cao
LOCATION:F10A.01.107.Law
END:VEVENT
END:VCALENDAR

