BEGIN:VCALENDAR
PRODID:scnitm
VERSION:2.0
BEGIN:VTIMEZONE
TZID:my/AEST
BEGIN:STANDARD
DTSTART:19700101T010000
TZOFFSETFROM:+1000
TZOFFSETTO:+1000
END:STANDARD
END:VTIMEZONE
BEGIN:VTIMEZONE
TZID:my/AEDT
BEGIN:STANDARD
DTSTART:19700101T010000
TZOFFSETFROM:+1100
TZOFFSETTO:+1100
END:STANDARD
END:VTIMEZONE
BEGIN:VEVENT
UID:scnitm-3358066-1776773793-1
DTSTART;TZID=my/AEDT:20221021T140000
DTEND;TZID=my/AEDT:20221021T150000
SUMMARY:Do you have a moment? Bayesian inference using estimating equations via empirical likelihood
DESCRIPTION:See scnews item https://talus.maths.usyd.edu.au/s/scnitm/linhn-StatisticsSeminar-Bondell
LOCATION:Carslaw 373
END:VEVENT
END:VCALENDAR

