BEGIN:VCALENDAR
PRODID:scnitm
VERSION:2.0
BEGIN:VTIMEZONE
TZID:my/AEST
BEGIN:STANDARD
DTSTART:19700101T010000
TZOFFSETFROM:+1000
TZOFFSETTO:+1000
END:STANDARD
END:VTIMEZONE
BEGIN:VTIMEZONE
TZID:my/AEDT
BEGIN:STANDARD
DTSTART:19700101T010000
TZOFFSETFROM:+1100
TZOFFSETTO:+1100
END:STANDARD
END:VTIMEZONE
BEGIN:VEVENT
UID:scnitm-3358108-1776773796-1
DTSTART;TZID=my/AEDT:20130201T130000
SUMMARY:Seminar -- The demand driven-system and its impact on quality in higher education
DESCRIPTION:See scnews item https://talus.maths.usyd.edu.au/s/scnitm/leonp-Seminar-Hewlett-TheDemand
LOCATION:New Law 104
END:VEVENT
END:VCALENDAR

