BEGIN:VCALENDAR
PRODID:scnitm
VERSION:2.0
BEGIN:VTIMEZONE
TZID:my/AEST
BEGIN:STANDARD
DTSTART:19700101T010000
TZOFFSETFROM:+1000
TZOFFSETTO:+1000
END:STANDARD
END:VTIMEZONE
BEGIN:VTIMEZONE
TZID:my/AEDT
BEGIN:STANDARD
DTSTART:19700101T010000
TZOFFSETFROM:+1100
TZOFFSETTO:+1100
END:STANDARD
END:VTIMEZONE
BEGIN:VEVENT
UID:scnitm-3358926-1776773886-1
DTSTART;TZID=my/AEDT:20141031T143000
DTEND;TZID=my/AEDT:20141031T153000
SUMMARY:Joint Colloquium: Alvaro Pelayo -- Classical and Quantum Integrable Systems
DESCRIPTION:See scnews item https://talus.maths.usyd.edu.au/s/scnitm/leo-JointColloquium-AlvaroPel
LOCATION:Carslaw 275
END:VEVENT
END:VCALENDAR

