BEGIN:VCALENDAR
PRODID:scnitm
VERSION:2.0
BEGIN:VTIMEZONE
TZID:my/AEST
BEGIN:STANDARD
DTSTART:19700101T010000
TZOFFSETFROM:+1000
TZOFFSETTO:+1000
END:STANDARD
END:VTIMEZONE
BEGIN:VTIMEZONE
TZID:my/AEDT
BEGIN:STANDARD
DTSTART:19700101T010000
TZOFFSETFROM:+1100
TZOFFSETTO:+1100
END:STANDARD
END:VTIMEZONE
BEGIN:VEVENT
UID:scnitm-3359430-1776773943-1
DTSTART;TZID=my/AEDT:20161104T140000
DTEND;TZID=my/AEDT:20161104T150000
SUMMARY:The ABC conjecture
DESCRIPTION:See scnews item https://talus.maths.usyd.edu.au/s/scnitm/leo-Colloquium-Voloch-TheABCC
LOCATION:UNSW Red Centre 4082
END:VEVENT
END:VCALENDAR

