BEGIN:VCALENDAR
PRODID:scnitm
VERSION:2.0
BEGIN:VTIMEZONE
TZID:my/AEST
BEGIN:STANDARD
DTSTART:19700101T010000
TZOFFSETFROM:+1000
TZOFFSETTO:+1000
END:STANDARD
END:VTIMEZONE
BEGIN:VTIMEZONE
TZID:my/AEDT
BEGIN:STANDARD
DTSTART:19700101T010000
TZOFFSETFROM:+1100
TZOFFSETTO:+1100
END:STANDARD
END:VTIMEZONE
BEGIN:VEVENT
UID:scnitm-3361533-1776774289-1
DTSTART;TZID=my/AEST:20170803T150000
DTEND;TZID=my/AEST:20170803T180000
SUMMARY:Geordie's course
DESCRIPTION:See scnews item https://talus.maths.usyd.edu.au/s/scnitm/laurent-Geordie-sSeminar-Williams
LOCATION:Carslaw 352
END:VEVENT
END:VCALENDAR

