BEGIN:VCALENDAR
PRODID:scnitm
VERSION:2.0
BEGIN:VTIMEZONE
TZID:my/AEST
BEGIN:STANDARD
DTSTART:19700101T010000
TZOFFSETFROM:+1000
TZOFFSETTO:+1000
END:STANDARD
END:VTIMEZONE
BEGIN:VTIMEZONE
TZID:my/AEDT
BEGIN:STANDARD
DTSTART:19700101T010000
TZOFFSETFROM:+1100
TZOFFSETTO:+1100
END:STANDARD
END:VTIMEZONE
BEGIN:VEVENT
UID:scnitm-3356487-1776773578-1
DTSTART;TZID=my/AEST:20200424T160000
DTEND;TZID=my/AEST:20200424T180000
SUMMARY:Sydney Dynamics Group: Sean Gasiorek -- Magnetic Variants of Billiard Systems
DESCRIPTION:See scnews item https://talus.maths.usyd.edu.au/s/scnitm/lachlans-SydneyDynamicsGroup-SeanG
LOCATION:Zoom
END:VEVENT
END:VCALENDAR

