BEGIN:VCALENDAR
PRODID:scnitm
VERSION:2.0
BEGIN:VTIMEZONE
TZID:my/AEST
BEGIN:STANDARD
DTSTART:19700101T010000
TZOFFSETFROM:+1000
TZOFFSETTO:+1000
END:STANDARD
END:VTIMEZONE
BEGIN:VTIMEZONE
TZID:my/AEDT
BEGIN:STANDARD
DTSTART:19700101T010000
TZOFFSETFROM:+1100
TZOFFSETTO:+1100
END:STANDARD
END:VTIMEZONE
BEGIN:VEVENT
UID:scnitm-3358421-1776773846-1
DTSTART;TZID=my/AEST:20200821T160000
DTEND;TZID=my/AEST:20200821T170000
SUMMARY:Sydney Dynamics Group: David Pfefferle -- Spinning tops and magneto-hydrodynamics: Part 2
DESCRIPTION:See scnews item https://talus.maths.usyd.edu.au/s/scnitm/lachlans-SydneyDynamicsGroup-David-001
LOCATION:Zoom
END:VEVENT
END:VCALENDAR

