BEGIN:VCALENDAR
PRODID:scnitm
VERSION:2.0
BEGIN:VTIMEZONE
TZID:my/AEST
BEGIN:STANDARD
DTSTART:19700101T010000
TZOFFSETFROM:+1000
TZOFFSETTO:+1000
END:STANDARD
END:VTIMEZONE
BEGIN:VTIMEZONE
TZID:my/AEDT
BEGIN:STANDARD
DTSTART:19700101T010000
TZOFFSETFROM:+1100
TZOFFSETTO:+1100
END:STANDARD
END:VTIMEZONE
BEGIN:VEVENT
UID:scnitm-3358205-1776773808-1
DTSTART;TZID=my/AEST:20200605T160000
DTEND;TZID=my/AEST:20200605T170000
SUMMARY:Sydney Dynamics Group: Bob Dewar -- Time-dependent relaxed magnetohydrodynamics -- inclusion of cross helicity constraint using phase-space action
DESCRIPTION:See scnews item https://talus.maths.usyd.edu.au/s/scnitm/lachlans-SydneyDynamicsGroup-BobDe
LOCATION:Zoom
END:VEVENT
END:VCALENDAR

