BEGIN:VCALENDAR
PRODID:scnitm
VERSION:2.0
BEGIN:VTIMEZONE
TZID:my/AEST
BEGIN:STANDARD
DTSTART:19700101T010000
TZOFFSETFROM:+1000
TZOFFSETTO:+1000
END:STANDARD
END:VTIMEZONE
BEGIN:VTIMEZONE
TZID:my/AEDT
BEGIN:STANDARD
DTSTART:19700101T010000
TZOFFSETFROM:+1100
TZOFFSETTO:+1100
END:STANDARD
END:VTIMEZONE
BEGIN:VEVENT
UID:scnitm-3359204-1776773920-1
DTSTART;TZID=my/AEST:20160907T120000
DTEND;TZID=my/AEST:20160907T130000
SUMMARY:The Springer correspondence for symmetric spaces and Hessenberg varieties
DESCRIPTION:See scnews item https://talus.maths.usyd.edu.au/s/scnitm/kevinc-AlgebraSeminar-Xue-TheSpr
LOCATION:Carslaw 375
END:VEVENT
END:VCALENDAR

