BEGIN:VCALENDAR
PRODID:scnitm
VERSION:2.0
BEGIN:VTIMEZONE
TZID:my/AEST
BEGIN:STANDARD
DTSTART:19700101T010000
TZOFFSETFROM:+1000
TZOFFSETTO:+1000
END:STANDARD
END:VTIMEZONE
BEGIN:VTIMEZONE
TZID:my/AEDT
BEGIN:STANDARD
DTSTART:19700101T010000
TZOFFSETFROM:+1100
TZOFFSETTO:+1100
END:STANDARD
END:VTIMEZONE
BEGIN:VEVENT
UID:scnitm-3358849-1776773882-1
DTSTART;TZID=my/AEDT:20170331T120000
DTEND;TZID=my/AEDT:20170331T130000
SUMMARY:Introduction to the Calogero-Moser vs. Kazhdan-Lusztig program
DESCRIPTION:See scnews item https://talus.maths.usyd.edu.au/s/scnitm/kevinc-AlgebraSeminar-Thiel-Intr
LOCATION:Carslaw 375
END:VEVENT
END:VCALENDAR

