BEGIN:VCALENDAR
PRODID:scnitm
VERSION:2.0
BEGIN:VTIMEZONE
TZID:my/AEST
BEGIN:STANDARD
DTSTART:19700101T010000
TZOFFSETFROM:+1000
TZOFFSETTO:+1000
END:STANDARD
END:VTIMEZONE
BEGIN:VTIMEZONE
TZID:my/AEDT
BEGIN:STANDARD
DTSTART:19700101T010000
TZOFFSETFROM:+1100
TZOFFSETTO:+1100
END:STANDARD
END:VTIMEZONE
BEGIN:VEVENT
UID:scnitm-3358653-1776773864-1
DTSTART;TZID=my/AEST:20170519T140000
DTEND;TZID=my/AEST:20170519T150000
SUMMARY:The glue that binds statistical inference, tidy data, grammar of graphics, data visualisation and visual inference
DESCRIPTION:See scnews item https://talus.maths.usyd.edu.au/s/scnitm/jormerod-StatisticsSeminar-DianneC
LOCATION:Carslaw 173
END:VEVENT
END:VCALENDAR

