BEGIN:VCALENDAR
PRODID:scnitm
VERSION:2.0
BEGIN:VTIMEZONE
TZID:my/AEST
BEGIN:STANDARD
DTSTART:19700101T010000
TZOFFSETFROM:+1000
TZOFFSETTO:+1000
END:STANDARD
END:VTIMEZONE
BEGIN:VTIMEZONE
TZID:my/AEDT
BEGIN:STANDARD
DTSTART:19700101T010000
TZOFFSETFROM:+1100
TZOFFSETTO:+1100
END:STANDARD
END:VTIMEZONE
BEGIN:VEVENT
UID:scnitm-3360407-1776774062-1
DTSTART;TZID=my/AEDT:20161219T110000
DTEND;TZID=my/AEDT:20161219T120000
SUMMARY:Geometry & Topology Seminar: Mean curvature flow encoding mass and center of mass in asymptotically flat 3-manifolds
DESCRIPTION:See scnews item https://talus.maths.usyd.edu.au/s/scnitm/haotianw-Geometry-TopologySeminar--005
LOCATION:Carslaw 830
END:VEVENT
END:VCALENDAR

