BEGIN:VCALENDAR
PRODID:scnitm
VERSION:2.0
BEGIN:VTIMEZONE
TZID:my/AEST
BEGIN:STANDARD
DTSTART:19700101T010000
TZOFFSETFROM:+1000
TZOFFSETTO:+1000
END:STANDARD
END:VTIMEZONE
BEGIN:VTIMEZONE
TZID:my/AEDT
BEGIN:STANDARD
DTSTART:19700101T010000
TZOFFSETFROM:+1100
TZOFFSETTO:+1100
END:STANDARD
END:VTIMEZONE
BEGIN:VEVENT
UID:scnitm-3358413-1776773846-1
DTSTART;TZID=my/AEDT:20231120T120000
DTEND;TZID=my/AEDT:20231120T130000
SUMMARY:Geometric Analysis Seminar: Conlon -- Two-dimensional shrinking Kahler-Ricci solitons
DESCRIPTION:See scnews item https://talus.maths.usyd.edu.au/s/scnitm/haotianw-GeometricAnalysisSeminar--002
LOCATION:AGR Carslaw 829
END:VEVENT
END:VCALENDAR

