BEGIN:VCALENDAR
PRODID:scnitm
VERSION:2.0
BEGIN:VTIMEZONE
TZID:my/AEST
BEGIN:STANDARD
DTSTART:19700101T010000
TZOFFSETFROM:+1000
TZOFFSETTO:+1000
END:STANDARD
END:VTIMEZONE
BEGIN:VTIMEZONE
TZID:my/AEDT
BEGIN:STANDARD
DTSTART:19700101T010000
TZOFFSETFROM:+1100
TZOFFSETTO:+1100
END:STANDARD
END:VTIMEZONE
BEGIN:VEVENT
UID:scnitm-3359229-1776773922-1
DTSTART;TZID=my/AEST:20210803T110000
DTEND;TZID=my/AEST:20210803T123000
SUMMARY:SMRI Course: Bazhanov 'Yang-Baxter maps' Lecture 1
DESCRIPTION:See scnews item https://talus.maths.usyd.edu.au/s/scnitm/hannahb-SMRICourse-Bazhanov-Yang-
LOCATION:Online via Zoom
END:VEVENT
BEGIN:VEVENT
UID:scnitm-3359229-1776773922-2
DTSTART;TZID=my/AEST:20210809T110000
DTEND;TZID=my/AEST:20210809T120000
SUMMARY:SMRI Course: Bazhanov 'Yang-Baxter maps' Lecture 2
DESCRIPTION:See scnews item https://talus.maths.usyd.edu.au/s/scnitm/hannahb-SMRICourse-Bazhanov-Yang-
LOCATION:Online via Zoom
END:VEVENT
BEGIN:VEVENT
UID:scnitm-3359229-1776773922-3
DTSTART;TZID=my/AEST:20210816T110000
DTEND;TZID=my/AEST:20210816T120000
SUMMARY:SMRI Course: Bazhanov 'Yang-Baxter maps' Lecture 3
DESCRIPTION:See scnews item https://talus.maths.usyd.edu.au/s/scnitm/hannahb-SMRICourse-Bazhanov-Yang-
LOCATION:Online via Zoom
END:VEVENT
BEGIN:VEVENT
UID:scnitm-3359229-1776773922-4
DTSTART;TZID=my/AEST:20210824T110000
DTEND;TZID=my/AEST:20210824T120000
SUMMARY:SMRI Course: Bazhanov 'Yang-Baxter maps' Lecture 4
DESCRIPTION:See scnews item https://talus.maths.usyd.edu.au/s/scnitm/hannahb-SMRICourse-Bazhanov-Yang-
LOCATION:Online via Zoom
END:VEVENT
BEGIN:VEVENT
UID:scnitm-3359229-1776773922-5
DTSTART;TZID=my/AEST:20210831T110000
DTEND;TZID=my/AEST:20210831T120000
SUMMARY:SMRI Course: Bazhanov 'Yang-Baxter maps' Lecture 5
DESCRIPTION:See scnews item https://talus.maths.usyd.edu.au/s/scnitm/hannahb-SMRICourse-Bazhanov-Yang-
LOCATION:Online via Zoom
END:VEVENT
END:VCALENDAR

