BEGIN:VCALENDAR
PRODID:scnitm
VERSION:2.0
BEGIN:VTIMEZONE
TZID:my/AEST
BEGIN:STANDARD
DTSTART:19700101T010000
TZOFFSETFROM:+1000
TZOFFSETTO:+1000
END:STANDARD
END:VTIMEZONE
BEGIN:VTIMEZONE
TZID:my/AEDT
BEGIN:STANDARD
DTSTART:19700101T010000
TZOFFSETFROM:+1100
TZOFFSETTO:+1100
END:STANDARD
END:VTIMEZONE
BEGIN:VEVENT
UID:scnitm-3360322-1776774055-1
DTSTART;TZID=my/AEDT:20240208T140000
DTEND;TZID=my/AEDT:20240208T144500
SUMMARY:SMRI Afternoon Tea - 2pm Thursdays
DESCRIPTION:See scnews item https://talus.maths.usyd.edu.au/s/scnitm/hannahb-SMRIAfternoonTea-resumes8
LOCATION:SMRI Terrace
END:VEVENT
BEGIN:VEVENT
UID:scnitm-3360322-1776774055-2
DTSTART;TZID=my/AEDT:20240215T140000
DTEND;TZID=my/AEDT:20240215T144500
SUMMARY:SMRI Afternoon Tea - 2pm every Thursday
DESCRIPTION:See scnews item https://talus.maths.usyd.edu.au/s/scnitm/hannahb-SMRIAfternoonTea-resumes8
LOCATION:SMRI Terrace
END:VEVENT
BEGIN:VEVENT
UID:scnitm-3360322-1776774055-3
DTSTART;TZID=my/AEDT:20240222T140000
DTEND;TZID=my/AEDT:20240222T144500
SUMMARY:SMRI Afternoon Tea - 2pm every Thursday
DESCRIPTION:See scnews item https://talus.maths.usyd.edu.au/s/scnitm/hannahb-SMRIAfternoonTea-resumes8
LOCATION:SMRI Terrace
END:VEVENT
BEGIN:VEVENT
UID:scnitm-3360322-1776774055-4
DTSTART;TZID=my/AEDT:20240229T140000
DTEND;TZID=my/AEDT:20240229T144500
SUMMARY:SMRI Afternoon Tea - 2pm every Thursday
DESCRIPTION:See scnews item https://talus.maths.usyd.edu.au/s/scnitm/hannahb-SMRIAfternoonTea-resumes8
LOCATION:SMRI Terrace
END:VEVENT
BEGIN:VEVENT
UID:scnitm-3360322-1776774055-5
DTSTART;TZID=my/AEDT:20240307T140000
DTEND;TZID=my/AEDT:20240307T144500
SUMMARY:SMRI Afternoon Tea - 2pm every Thursday
DESCRIPTION:See scnews item https://talus.maths.usyd.edu.au/s/scnitm/hannahb-SMRIAfternoonTea-resumes8
LOCATION:SMRI Terrace
END:VEVENT
BEGIN:VEVENT
UID:scnitm-3360322-1776774055-6
DTSTART;TZID=my/AEDT:20240314T140000
DTEND;TZID=my/AEDT:20240314T144500
SUMMARY:SMRI Afternoon Tea - 2pm every Thursday
DESCRIPTION:See scnews item https://talus.maths.usyd.edu.au/s/scnitm/hannahb-SMRIAfternoonTea-resumes8
LOCATION:SMRI Terrace
END:VEVENT
BEGIN:VEVENT
UID:scnitm-3360322-1776774055-7
DTSTART;TZID=my/AEDT:20240321T140000
DTEND;TZID=my/AEDT:20240321T144500
SUMMARY:Larissa's Farewell & SMRI Afternoon Tea - 2pm every Thursday
DESCRIPTION:See scnews item https://talus.maths.usyd.edu.au/s/scnitm/hannahb-SMRIAfternoonTea-resumes8
LOCATION:SMRI Terrace
END:VEVENT
BEGIN:VEVENT
UID:scnitm-3360322-1776774055-8
DTSTART;TZID=my/AEDT:20240328T140000
DTEND;TZID=my/AEDT:20240328T144500
SUMMARY:SMRI Afternoon Tea - 2pm every Thursday
DESCRIPTION:See scnews item https://talus.maths.usyd.edu.au/s/scnitm/hannahb-SMRIAfternoonTea-resumes8
LOCATION:SMRI Terrace
END:VEVENT
BEGIN:VEVENT
UID:scnitm-3360322-1776774055-9
DTSTART;TZID=my/AEDT:20240404T140000
DTEND;TZID=my/AEDT:20240404T144500
SUMMARY:SMRI Afternoon Tea - 2pm every Thursday
DESCRIPTION:See scnews item https://talus.maths.usyd.edu.au/s/scnitm/hannahb-SMRIAfternoonTea-resumes8
LOCATION:SMRI Terrace
END:VEVENT
BEGIN:VEVENT
UID:scnitm-3360322-1776774055-10
DTSTART;TZID=my/AEST:20240411T140000
DTEND;TZID=my/AEST:20240411T144500
SUMMARY:SMRI Afternoon Tea - 2pm every Thursday
DESCRIPTION:See scnews item https://talus.maths.usyd.edu.au/s/scnitm/hannahb-SMRIAfternoonTea-resumes8
LOCATION:SMRI Terrace
END:VEVENT
BEGIN:VEVENT
UID:scnitm-3360322-1776774055-11
DTSTART;TZID=my/AEST:20240418T140000
DTEND;TZID=my/AEST:20240418T144500
SUMMARY:SMRI Afternoon Tea - 2pm every Thursday
DESCRIPTION:See scnews item https://talus.maths.usyd.edu.au/s/scnitm/hannahb-SMRIAfternoonTea-resumes8
LOCATION:SMRI Terrace
END:VEVENT
BEGIN:VEVENT
UID:scnitm-3360322-1776774055-12
DTSTART;TZID=my/AEST:20240502T140000
DTEND;TZID=my/AEST:20240502T144500
SUMMARY:SMRI Afternoon Tea - 2pm every Thursday
DESCRIPTION:See scnews item https://talus.maths.usyd.edu.au/s/scnitm/hannahb-SMRIAfternoonTea-resumes8
LOCATION:SMRI Terrace
END:VEVENT
BEGIN:VEVENT
UID:scnitm-3360322-1776774055-13
DTSTART;TZID=my/AEST:20240509T140000
DTEND;TZID=my/AEST:20240509T144500
SUMMARY:SMRI Afternoon Tea - 2pm every Thursday
DESCRIPTION:See scnews item https://talus.maths.usyd.edu.au/s/scnitm/hannahb-SMRIAfternoonTea-resumes8
LOCATION:SMRI Terrace
END:VEVENT
BEGIN:VEVENT
UID:scnitm-3360322-1776774055-14
DTSTART;TZID=my/AEST:20240516T140000
DTEND;TZID=my/AEST:20240516T144500
SUMMARY:SMRI Afternoon Tea - 2pm every Thursday
DESCRIPTION:See scnews item https://talus.maths.usyd.edu.au/s/scnitm/hannahb-SMRIAfternoonTea-resumes8
LOCATION:SMRI Terrace
END:VEVENT
BEGIN:VEVENT
UID:scnitm-3360322-1776774055-15
DTSTART;TZID=my/AEST:20240523T140000
DTEND;TZID=my/AEST:20240523T144500
SUMMARY:SMRI Afternoon Tea - 2pm every Thursday
DESCRIPTION:See scnews item https://talus.maths.usyd.edu.au/s/scnitm/hannahb-SMRIAfternoonTea-resumes8
LOCATION:SMRI Terrace
END:VEVENT
BEGIN:VEVENT
UID:scnitm-3360322-1776774055-16
DTSTART;TZID=my/AEST:20240530T140000
DTEND;TZID=my/AEST:20240530T144500
SUMMARY:SMRI Afternoon Tea - 2pm every Thursday
DESCRIPTION:See scnews item https://talus.maths.usyd.edu.au/s/scnitm/hannahb-SMRIAfternoonTea-resumes8
LOCATION:SMRI Terrace
END:VEVENT
BEGIN:VEVENT
UID:scnitm-3360322-1776774055-17
DTSTART;TZID=my/AEST:20240606T140000
DTEND;TZID=my/AEST:20240606T144500
SUMMARY:SMRI Afternoon Tea - 2pm every Thursday
DESCRIPTION:See scnews item https://talus.maths.usyd.edu.au/s/scnitm/hannahb-SMRIAfternoonTea-resumes8
LOCATION:SMRI Terrace
END:VEVENT
BEGIN:VEVENT
UID:scnitm-3360322-1776774055-18
DTSTART;TZID=my/AEST:20240613T140000
DTEND;TZID=my/AEST:20240613T144500
SUMMARY:SMRI Afternoon Tea - 2pm every Thursday
DESCRIPTION:See scnews item https://talus.maths.usyd.edu.au/s/scnitm/hannahb-SMRIAfternoonTea-resumes8
LOCATION:SMRI Terrace
END:VEVENT
BEGIN:VEVENT
UID:scnitm-3360322-1776774055-19
DTSTART;TZID=my/AEST:20240620T140000
DTEND;TZID=my/AEST:20240620T144500
SUMMARY:SMRI Afternoon Tea - 2pm every Thursday
DESCRIPTION:See scnews item https://talus.maths.usyd.edu.au/s/scnitm/hannahb-SMRIAfternoonTea-resumes8
LOCATION:SMRI Terrace
END:VEVENT
BEGIN:VEVENT
UID:scnitm-3360322-1776774055-20
DTSTART;TZID=my/AEST:20240627T140000
DTEND;TZID=my/AEST:20240627T144500
SUMMARY:SMRI Afternoon Tea - 2pm every Thursday
DESCRIPTION:See scnews item https://talus.maths.usyd.edu.au/s/scnitm/hannahb-SMRIAfternoonTea-resumes8
LOCATION:SMRI Terrace
END:VEVENT
BEGIN:VEVENT
UID:scnitm-3360322-1776774055-21
DTSTART;TZID=my/AEST:20240704T140000
DTEND;TZID=my/AEST:20240704T144500
SUMMARY:SMRI Afternoon Tea - 2pm every Thursday
DESCRIPTION:See scnews item https://talus.maths.usyd.edu.au/s/scnitm/hannahb-SMRIAfternoonTea-resumes8
LOCATION:SMRI Terrace
END:VEVENT
BEGIN:VEVENT
UID:scnitm-3360322-1776774055-22
DTSTART;TZID=my/AEST:20240711T140000
DTEND;TZID=my/AEST:20240711T144500
SUMMARY:SMRI Afternoon Tea - 2pm every Thursday
DESCRIPTION:See scnews item https://talus.maths.usyd.edu.au/s/scnitm/hannahb-SMRIAfternoonTea-resumes8
LOCATION:SMRI Terrace
END:VEVENT
BEGIN:VEVENT
UID:scnitm-3360322-1776774055-23
DTSTART;TZID=my/AEST:20240718T140000
DTEND;TZID=my/AEST:20240718T144500
SUMMARY:SMRI Afternoon Tea - 2pm every Thursday
DESCRIPTION:See scnews item https://talus.maths.usyd.edu.au/s/scnitm/hannahb-SMRIAfternoonTea-resumes8
LOCATION:SMRI Terrace
END:VEVENT
BEGIN:VEVENT
UID:scnitm-3360322-1776774055-24
DTSTART;TZID=my/AEST:20240725T140000
DTEND;TZID=my/AEST:20240725T144500
SUMMARY:SMRI Afternoon Tea - 2pm every Thursday
DESCRIPTION:See scnews item https://talus.maths.usyd.edu.au/s/scnitm/hannahb-SMRIAfternoonTea-resumes8
LOCATION:SMRI Terrace
END:VEVENT
BEGIN:VEVENT
UID:scnitm-3360322-1776774055-25
DTSTART;TZID=my/AEST:20240801T140000
DTEND;TZID=my/AEST:20240801T144500
SUMMARY:SMRI Afternoon Tea - 2pm every Thursday
DESCRIPTION:See scnews item https://talus.maths.usyd.edu.au/s/scnitm/hannahb-SMRIAfternoonTea-resumes8
LOCATION:SMRI Terrace
END:VEVENT
BEGIN:VEVENT
UID:scnitm-3360322-1776774055-26
DTSTART;TZID=my/AEST:20240808T140000
DTEND;TZID=my/AEST:20240808T144500
SUMMARY:SMRI Afternoon Tea - 2pm every Thursday
DESCRIPTION:See scnews item https://talus.maths.usyd.edu.au/s/scnitm/hannahb-SMRIAfternoonTea-resumes8
LOCATION:SMRI Terrace
END:VEVENT
BEGIN:VEVENT
UID:scnitm-3360322-1776774055-27
DTSTART;TZID=my/AEST:20240815T140000
DTEND;TZID=my/AEST:20240815T144500
SUMMARY:SMRI Afternoon Tea - 2pm every Thursday
DESCRIPTION:See scnews item https://talus.maths.usyd.edu.au/s/scnitm/hannahb-SMRIAfternoonTea-resumes8
LOCATION:SMRI Terrace
END:VEVENT
BEGIN:VEVENT
UID:scnitm-3360322-1776774055-28
DTSTART;TZID=my/AEST:20240822T140000
DTEND;TZID=my/AEST:20240822T144500
SUMMARY:SMRI Afternoon Tea - 2pm every Thursday
DESCRIPTION:See scnews item https://talus.maths.usyd.edu.au/s/scnitm/hannahb-SMRIAfternoonTea-resumes8
LOCATION:SMRI Terrace
END:VEVENT
BEGIN:VEVENT
UID:scnitm-3360322-1776774055-29
DTSTART;TZID=my/AEST:20240829T140000
DTEND;TZID=my/AEST:20240829T144500
SUMMARY:SMRI Afternoon Tea - 2pm every Thursday
DESCRIPTION:See scnews item https://talus.maths.usyd.edu.au/s/scnitm/hannahb-SMRIAfternoonTea-resumes8
LOCATION:SMRI Terrace
END:VEVENT
BEGIN:VEVENT
UID:scnitm-3360322-1776774055-30
DTSTART;TZID=my/AEST:20240905T140000
DTEND;TZID=my/AEST:20240905T144500
SUMMARY:SMRI Afternoon Tea - 2pm every Thursday
DESCRIPTION:See scnews item https://talus.maths.usyd.edu.au/s/scnitm/hannahb-SMRIAfternoonTea-resumes8
LOCATION:SMRI Terrace
END:VEVENT
BEGIN:VEVENT
UID:scnitm-3360322-1776774055-31
DTSTART;TZID=my/AEST:20240912T140000
DTEND;TZID=my/AEST:20240912T144500
SUMMARY:SMRI Afternoon Tea - 2pm every Thursday
DESCRIPTION:See scnews item https://talus.maths.usyd.edu.au/s/scnitm/hannahb-SMRIAfternoonTea-resumes8
LOCATION:SMRI Terrace
END:VEVENT
BEGIN:VEVENT
UID:scnitm-3360322-1776774055-32
DTSTART;TZID=my/AEST:20240919T140000
DTEND;TZID=my/AEST:20240919T144500
SUMMARY:SMRI Afternoon Tea - 2pm every Thursday
DESCRIPTION:See scnews item https://talus.maths.usyd.edu.au/s/scnitm/hannahb-SMRIAfternoonTea-resumes8
LOCATION:SMRI Terrace
END:VEVENT
BEGIN:VEVENT
UID:scnitm-3360322-1776774055-33
DTSTART;TZID=my/AEST:20240926T140000
DTEND;TZID=my/AEST:20240926T144500
SUMMARY:SMRI Afternoon Tea - 2pm every Thursday
DESCRIPTION:See scnews item https://talus.maths.usyd.edu.au/s/scnitm/hannahb-SMRIAfternoonTea-resumes8
LOCATION:SMRI Terrace
END:VEVENT
BEGIN:VEVENT
UID:scnitm-3360322-1776774055-34
DTSTART;TZID=my/AEST:20241003T140000
DTEND;TZID=my/AEST:20241003T144500
SUMMARY:SMRI Afternoon Tea - 2pm every Thursday
DESCRIPTION:See scnews item https://talus.maths.usyd.edu.au/s/scnitm/hannahb-SMRIAfternoonTea-resumes8
LOCATION:SMRI Terrace
END:VEVENT
BEGIN:VEVENT
UID:scnitm-3360322-1776774055-35
DTSTART;TZID=my/AEDT:20241010T140000
DTEND;TZID=my/AEDT:20241010T144500
SUMMARY:SMRI Afternoon Tea - 2pm every Thursday
DESCRIPTION:See scnews item https://talus.maths.usyd.edu.au/s/scnitm/hannahb-SMRIAfternoonTea-resumes8
LOCATION:SMRI Terrace
END:VEVENT
BEGIN:VEVENT
UID:scnitm-3360322-1776774055-36
DTSTART;TZID=my/AEDT:20241017T140000
DTEND;TZID=my/AEDT:20241017T144500
SUMMARY:SMRI Afternoon Tea - 2pm every Thursday
DESCRIPTION:See scnews item https://talus.maths.usyd.edu.au/s/scnitm/hannahb-SMRIAfternoonTea-resumes8
LOCATION:SMRI Terrace
END:VEVENT
BEGIN:VEVENT
UID:scnitm-3360322-1776774055-37
DTSTART;TZID=my/AEDT:20241024T140000
DTEND;TZID=my/AEDT:20241024T144500
SUMMARY:SMRI Afternoon Tea - 2pm every Thursday
DESCRIPTION:See scnews item https://talus.maths.usyd.edu.au/s/scnitm/hannahb-SMRIAfternoonTea-resumes8
LOCATION:SMRI Terrace
END:VEVENT
BEGIN:VEVENT
UID:scnitm-3360322-1776774055-38
DTSTART;TZID=my/AEDT:20241031T140000
DTEND;TZID=my/AEDT:20241031T144500
SUMMARY:SMRI Afternoon Tea - 2pm every Thursday
DESCRIPTION:See scnews item https://talus.maths.usyd.edu.au/s/scnitm/hannahb-SMRIAfternoonTea-resumes8
LOCATION:SMRI Terrace
END:VEVENT
BEGIN:VEVENT
UID:scnitm-3360322-1776774055-39
DTSTART;TZID=my/AEDT:20241107T140000
DTEND;TZID=my/AEDT:20241107T144500
SUMMARY:SMRI Afternoon Tea - 2pm every Thursday
DESCRIPTION:See scnews item https://talus.maths.usyd.edu.au/s/scnitm/hannahb-SMRIAfternoonTea-resumes8
LOCATION:SMRI Terrace
END:VEVENT
BEGIN:VEVENT
UID:scnitm-3360322-1776774055-40
DTSTART;TZID=my/AEDT:20241114T140000
DTEND;TZID=my/AEDT:20241114T144500
SUMMARY:SMRI Afternoon Tea - 2pm every Thursday
DESCRIPTION:See scnews item https://talus.maths.usyd.edu.au/s/scnitm/hannahb-SMRIAfternoonTea-resumes8
LOCATION:SMRI Terrace
END:VEVENT
BEGIN:VEVENT
UID:scnitm-3360322-1776774055-41
DTSTART;TZID=my/AEDT:20241121T140000
DTEND;TZID=my/AEDT:20241121T144500
SUMMARY:SMRI Afternoon Tea - 2pm every Thursday
DESCRIPTION:See scnews item https://talus.maths.usyd.edu.au/s/scnitm/hannahb-SMRIAfternoonTea-resumes8
LOCATION:SMRI Terrace
END:VEVENT
BEGIN:VEVENT
UID:scnitm-3360322-1776774055-42
DTSTART;TZID=my/AEDT:20241128T140000
DTEND;TZID=my/AEDT:20241128T144500
SUMMARY:SMRI Afternoon Tea - 2pm every Thursday
DESCRIPTION:See scnews item https://talus.maths.usyd.edu.au/s/scnitm/hannahb-SMRIAfternoonTea-resumes8
LOCATION:SMRI Terrace
END:VEVENT
BEGIN:VEVENT
UID:scnitm-3360322-1776774055-43
DTSTART;TZID=my/AEDT:20241205T140000
DTEND;TZID=my/AEDT:20241205T144500
SUMMARY:SMRI Afternoon Tea - 2pm every Thursday
DESCRIPTION:See scnews item https://talus.maths.usyd.edu.au/s/scnitm/hannahb-SMRIAfternoonTea-resumes8
LOCATION:SMRI Terrace
END:VEVENT
BEGIN:VEVENT
UID:scnitm-3360322-1776774055-44
DTSTART;TZID=my/AEDT:20241212T140000
DTEND;TZID=my/AEDT:20241212T144500
SUMMARY:SMRI Afternoon Tea - 12/12 Final for 2024 (resumes 2025) - 2pm Thursdays
DESCRIPTION:See scnews item https://talus.maths.usyd.edu.au/s/scnitm/hannahb-SMRIAfternoonTea-resumes8
LOCATION:SMRI Terrace
END:VEVENT
END:VCALENDAR

