BEGIN:VCALENDAR
PRODID:scnitm
VERSION:2.0
BEGIN:VTIMEZONE
TZID:my/AEST
BEGIN:STANDARD
DTSTART:19700101T010000
TZOFFSETFROM:+1000
TZOFFSETTO:+1000
END:STANDARD
END:VTIMEZONE
BEGIN:VTIMEZONE
TZID:my/AEDT
BEGIN:STANDARD
DTSTART:19700101T010000
TZOFFSETFROM:+1100
TZOFFSETTO:+1100
END:STANDARD
END:VTIMEZONE
BEGIN:VEVENT
UID:scnitm-3358411-1776773846-1
DTSTART;TZID=my/AEST:20210415T153000
DTEND;TZID=my/AEST:20210415T163000
SUMMARY:SMRI-Applied Maths Seminar - Stepanyants
DESCRIPTION:See scnews item https://talus.maths.usyd.edu.au/s/scnitm/hannahb-SMRI-AppliedMathsSeminar--001
LOCATION:Quad S227
END:VEVENT
END:VCALENDAR

