BEGIN:VCALENDAR
PRODID:scnitm
VERSION:2.0
BEGIN:VTIMEZONE
TZID:my/AEST
BEGIN:STANDARD
DTSTART:19700101T010000
TZOFFSETFROM:+1000
TZOFFSETTO:+1000
END:STANDARD
END:VTIMEZONE
BEGIN:VTIMEZONE
TZID:my/AEDT
BEGIN:STANDARD
DTSTART:19700101T010000
TZOFFSETFROM:+1100
TZOFFSETTO:+1100
END:STANDARD
END:VTIMEZONE
BEGIN:VEVENT
UID:scnitm-3352162-1776772926-1
DTSTART;TZID=my/AEST:20230811T143000
DTEND;TZID=my/AEST:20230811T170000
SUMMARY:D-modules and representation theory
DESCRIPTION:See scnews item https://talus.maths.usyd.edu.au/s/scnitm/hannahb-D-modulesAndRepresentatio
LOCATION:Quad S223
END:VEVENT
BEGIN:VEVENT
UID:scnitm-3352162-1776772926-2
DTSTART;TZID=my/AEST:20230818T143000
DTEND;TZID=my/AEST:20230818T170000
SUMMARY:D-modules and representation theory
DESCRIPTION:See scnews item https://talus.maths.usyd.edu.au/s/scnitm/hannahb-D-modulesAndRepresentatio
LOCATION:Quad S223
END:VEVENT
BEGIN:VEVENT
UID:scnitm-3352162-1776772926-3
DTSTART;TZID=my/AEST:20230825T143000
DTEND;TZID=my/AEST:20230825T170000
SUMMARY:D-modules and representation theory
DESCRIPTION:See scnews item https://talus.maths.usyd.edu.au/s/scnitm/hannahb-D-modulesAndRepresentatio
LOCATION:Quad S223
END:VEVENT
BEGIN:VEVENT
UID:scnitm-3352162-1776772926-4
DTSTART;TZID=my/AEST:20230901T143000
DTEND;TZID=my/AEST:20230901T170000
SUMMARY:D-modules and representation theory
DESCRIPTION:See scnews item https://talus.maths.usyd.edu.au/s/scnitm/hannahb-D-modulesAndRepresentatio
LOCATION:Quad S223
END:VEVENT
BEGIN:VEVENT
UID:scnitm-3352162-1776772926-5
DTSTART;TZID=my/AEST:20230908T143000
DTEND;TZID=my/AEST:20230908T170000
SUMMARY:D-modules and representation theory
DESCRIPTION:See scnews item https://talus.maths.usyd.edu.au/s/scnitm/hannahb-D-modulesAndRepresentatio
LOCATION:Quad S223
END:VEVENT
BEGIN:VEVENT
UID:scnitm-3352162-1776772926-6
DTSTART;TZID=my/AEST:20230915T143000
DTEND;TZID=my/AEST:20230915T170000
SUMMARY:D-modules and representation theory
DESCRIPTION:See scnews item https://talus.maths.usyd.edu.au/s/scnitm/hannahb-D-modulesAndRepresentatio
LOCATION:Quad S223
END:VEVENT
BEGIN:VEVENT
UID:scnitm-3352162-1776772926-7
DTSTART;TZID=my/AEST:20230922T143000
DTEND;TZID=my/AEST:20230922T170000
SUMMARY:D-modules and representation theory
DESCRIPTION:See scnews item https://talus.maths.usyd.edu.au/s/scnitm/hannahb-D-modulesAndRepresentatio
LOCATION:Quad S223
END:VEVENT
BEGIN:VEVENT
UID:scnitm-3352162-1776772926-8
DTSTART;TZID=my/AEDT:20231124T143000
DTEND;TZID=my/AEDT:20231124T170000
SUMMARY:D-modules and representation theory
DESCRIPTION:See scnews item https://talus.maths.usyd.edu.au/s/scnitm/hannahb-D-modulesAndRepresentatio
LOCATION:Quad S223
END:VEVENT
BEGIN:VEVENT
UID:scnitm-3352162-1776772926-9
DTSTART;TZID=my/AEDT:20231006T143000
DTEND;TZID=my/AEDT:20231006T170000
SUMMARY:D-modules and representation theory
DESCRIPTION:See scnews item https://talus.maths.usyd.edu.au/s/scnitm/hannahb-D-modulesAndRepresentatio
LOCATION:Quad S223
END:VEVENT
BEGIN:VEVENT
UID:scnitm-3352162-1776772926-10
DTSTART;TZID=my/AEDT:20231013T143000
DTEND;TZID=my/AEDT:20231013T170000
SUMMARY:D-modules and representation theory
DESCRIPTION:See scnews item https://talus.maths.usyd.edu.au/s/scnitm/hannahb-D-modulesAndRepresentatio
LOCATION:Quad S223
END:VEVENT
BEGIN:VEVENT
UID:scnitm-3352162-1776772926-11
DTSTART;TZID=my/AEDT:20231020T143000
DTEND;TZID=my/AEDT:20231020T170000
SUMMARY:D-modules and representation theory
DESCRIPTION:See scnews item https://talus.maths.usyd.edu.au/s/scnitm/hannahb-D-modulesAndRepresentatio
LOCATION:Quad S223
END:VEVENT
BEGIN:VEVENT
UID:scnitm-3352162-1776772926-12
DTSTART;TZID=my/AEDT:20231027T143000
DTEND;TZID=my/AEDT:20231027T170000
SUMMARY:D-modules and representation theory
DESCRIPTION:See scnews item https://talus.maths.usyd.edu.au/s/scnitm/hannahb-D-modulesAndRepresentatio
LOCATION:Quad S223
END:VEVENT
BEGIN:VEVENT
UID:scnitm-3352162-1776772926-13
DTSTART;TZID=my/AEDT:20231103T143000
DTEND;TZID=my/AEDT:20231103T170000
SUMMARY:D-modules and representation theory
DESCRIPTION:See scnews item https://talus.maths.usyd.edu.au/s/scnitm/hannahb-D-modulesAndRepresentatio
LOCATION:Quad S223
END:VEVENT
BEGIN:VEVENT
UID:scnitm-3352162-1776772926-14
DTSTART;TZID=my/AEDT:20231110T143000
DTEND;TZID=my/AEDT:20231110T170000
SUMMARY:D-modules and representation theory
DESCRIPTION:See scnews item https://talus.maths.usyd.edu.au/s/scnitm/hannahb-D-modulesAndRepresentatio
LOCATION:Quad S223
END:VEVENT
BEGIN:VEVENT
UID:scnitm-3352162-1776772926-15
DTSTART;TZID=my/AEDT:20231117T143000
DTEND;TZID=my/AEDT:20231117T170000
SUMMARY:D-modules and representation theory
DESCRIPTION:See scnews item https://talus.maths.usyd.edu.au/s/scnitm/hannahb-D-modulesAndRepresentatio
LOCATION:Quad S223
END:VEVENT
END:VCALENDAR

