BEGIN:VCALENDAR
PRODID:scnitm
VERSION:2.0
BEGIN:VTIMEZONE
TZID:my/AEST
BEGIN:STANDARD
DTSTART:19700101T010000
TZOFFSETFROM:+1000
TZOFFSETTO:+1000
END:STANDARD
END:VTIMEZONE
BEGIN:VTIMEZONE
TZID:my/AEDT
BEGIN:STANDARD
DTSTART:19700101T010000
TZOFFSETFROM:+1100
TZOFFSETTO:+1100
END:STANDARD
END:VTIMEZONE
BEGIN:VEVENT
UID:scnitm-3360143-1776774031-1
DTSTART;TZID=my/AEST:20240626T140000
DTEND;TZID=my/AEST:20240626T150000
SUMMARY:2024 Mahler Colloquium at UNSW
DESCRIPTION:See scnews item https://talus.maths.usyd.edu.au/s/scnitm/hannahb-2024MahlerColloquiumAtUNS
LOCATION:UNSW, Anita B. Lawrence Center - Room 4082 
END:VEVENT
END:VCALENDAR

