BEGIN:VCALENDAR
PRODID:scnitm
VERSION:2.0
BEGIN:VTIMEZONE
TZID:my/AEST
BEGIN:STANDARD
DTSTART:19700101T010000
TZOFFSETFROM:+1000
TZOFFSETTO:+1000
END:STANDARD
END:VTIMEZONE
BEGIN:VTIMEZONE
TZID:my/AEDT
BEGIN:STANDARD
DTSTART:19700101T010000
TZOFFSETFROM:+1100
TZOFFSETTO:+1100
END:STANDARD
END:VTIMEZONE
BEGIN:VEVENT
UID:scnitm-3358500-1776773851-1
DTSTART;TZID=my/AEST:20250822T120000
DTEND;TZID=my/AEST:20250822T130000
SUMMARY:Representable tangent structures for affine schemes
DESCRIPTION:See scnews item https://talus.maths.usyd.edu.au/s/scnitm/goertzen-AlgebraSeminar-Lanfranchi
LOCATION:Carslaw 175
END:VEVENT
END:VCALENDAR

