BEGIN:VCALENDAR
PRODID:scnitm
VERSION:2.0
BEGIN:VTIMEZONE
TZID:my/AEST
BEGIN:STANDARD
DTSTART:19700101T010000
TZOFFSETFROM:+1000
TZOFFSETTO:+1000
END:STANDARD
END:VTIMEZONE
BEGIN:VTIMEZONE
TZID:my/AEDT
BEGIN:STANDARD
DTSTART:19700101T010000
TZOFFSETFROM:+1100
TZOFFSETTO:+1100
END:STANDARD
END:VTIMEZONE
BEGIN:VEVENT
UID:scnitm-3358727-1776773869-1
DTSTART;TZID=my/AEDT:20250314T120000
DTEND;TZID=my/AEDT:20250314T130000
SUMMARY:Kodera - Coproduct for affine Yangians and parabolic induction for rectangular W-algebras
DESCRIPTION:See scnews item https://talus.maths.usyd.edu.au/s/scnitm/goertzen-AlgebraSeminar-Kodera-Cop
LOCATION:Carslaw 175
END:VEVENT
END:VCALENDAR

