BEGIN:VCALENDAR
PRODID:scnitm
VERSION:2.0
BEGIN:VTIMEZONE
TZID:my/AEST
BEGIN:STANDARD
DTSTART:19700101T010000
TZOFFSETFROM:+1000
TZOFFSETTO:+1000
END:STANDARD
END:VTIMEZONE
BEGIN:VTIMEZONE
TZID:my/AEDT
BEGIN:STANDARD
DTSTART:19700101T010000
TZOFFSETFROM:+1100
TZOFFSETTO:+1100
END:STANDARD
END:VTIMEZONE
BEGIN:VEVENT
UID:scnitm-3357035-1776773664-1
DTSTART;TZID=my/AEST:20090805T130000
DTEND;TZID=my/AEST:20090805T140000
SUMMARY:SUMS: Zhang -- How to Sink a Submarine
DESCRIPTION:See scnews item https://talus.maths.usyd.edu.au/s/scnitm/garethw-SUMS-Zhang-HowToSinkASubm
LOCATION:Carslaw 350
END:VEVENT
END:VCALENDAR

