BEGIN:VCALENDAR
PRODID:scnitm
VERSION:2.0
BEGIN:VTIMEZONE
TZID:my/AEST
BEGIN:STANDARD
DTSTART:19700101T010000
TZOFFSETFROM:+1000
TZOFFSETTO:+1000
END:STANDARD
END:VTIMEZONE
BEGIN:VTIMEZONE
TZID:my/AEDT
BEGIN:STANDARD
DTSTART:19700101T010000
TZOFFSETFROM:+1100
TZOFFSETTO:+1100
END:STANDARD
END:VTIMEZONE
BEGIN:VEVENT
UID:scnitm-3354685-1776773373-1
DTSTART;TZID=my/AEDT:20081029T130000
DTEND;TZID=my/AEDT:20081029T140000
SUMMARY:SUMS -- Inaugural General Meeting
DESCRIPTION:See scnews item https://talus.maths.usyd.edu.au/s/scnitm/garethw-SUMS-InauguralGeneralMeet
LOCATION:Carslaw 355
END:VEVENT
END:VCALENDAR

