BEGIN:VCALENDAR
PRODID:scnitm
VERSION:2.0
BEGIN:VTIMEZONE
TZID:my/AEST
BEGIN:STANDARD
DTSTART:19700101T010000
TZOFFSETFROM:+1000
TZOFFSETTO:+1000
END:STANDARD
END:VTIMEZONE
BEGIN:VTIMEZONE
TZID:my/AEDT
BEGIN:STANDARD
DTSTART:19700101T010000
TZOFFSETFROM:+1100
TZOFFSETTO:+1100
END:STANDARD
END:VTIMEZONE
BEGIN:VEVENT
UID:scnitm-3377641-1776778053-1
DTSTART;TZID=my/AEST:20170524T140000
DTEND;TZID=my/AEST:20170524T150000
SUMMARY:Slow-burning instabilities of Dufort-Frankel finite differencing
DESCRIPTION:See scnews item https://talus.maths.usyd.edu.au/s/scnitm/ega-AppliedMathsSeminar-Gallo
LOCATION:AGR Carslaw 829
END:VEVENT
END:VCALENDAR

