BEGIN:VCALENDAR
PRODID:scnitm
VERSION:2.0
BEGIN:VTIMEZONE
TZID:my/AEST
BEGIN:STANDARD
DTSTART:19700101T010000
TZOFFSETFROM:+1000
TZOFFSETTO:+1000
END:STANDARD
END:VTIMEZONE
BEGIN:VTIMEZONE
TZID:my/AEDT
BEGIN:STANDARD
DTSTART:19700101T010000
TZOFFSETFROM:+1100
TZOFFSETTO:+1100
END:STANDARD
END:VTIMEZONE
BEGIN:VEVENT
UID:scnitm-3353283-1776773127-1
DTSTART;TZID=my/AEST:20110728T130000
DTEND;TZID=my/AEST:20110728T140000
SUMMARY:SUMS: Sutherland -- Sequential Hermaphrodites: Kinky Population Dynamics
DESCRIPTION:See scnews item https://talus.maths.usyd.edu.au/s/scnitm/duncans-SUMS-Sutherland-Sequentia
LOCATION:New Law 026
END:VEVENT
END:VCALENDAR

