BEGIN:VCALENDAR
PRODID:scnitm
VERSION:2.0
BEGIN:VTIMEZONE
TZID:my/AEST
BEGIN:STANDARD
DTSTART:19700101T010000
TZOFFSETFROM:+1000
TZOFFSETTO:+1000
END:STANDARD
END:VTIMEZONE
BEGIN:VTIMEZONE
TZID:my/AEDT
BEGIN:STANDARD
DTSTART:19700101T010000
TZOFFSETFROM:+1100
TZOFFSETTO:+1100
END:STANDARD
END:VTIMEZONE
BEGIN:VEVENT
UID:scnitm-3351841-1776772860-1
DTSTART;TZID=my/AEDT:20091007T130000
DTEND;TZID=my/AEDT:20091007T140000
SUMMARY:SUMS -- Maths relay
DESCRIPTION:See scnews item https://talus.maths.usyd.edu.au/s/scnitm/duncans-SUMS-MathsRelay
LOCATION:Carslaw 350
END:VEVENT
END:VCALENDAR

