BEGIN:VCALENDAR
PRODID:scnitm
VERSION:2.0
BEGIN:VTIMEZONE
TZID:my/AEST
BEGIN:STANDARD
DTSTART:19700101T010000
TZOFFSETFROM:+1000
TZOFFSETTO:+1000
END:STANDARD
END:VTIMEZONE
BEGIN:VTIMEZONE
TZID:my/AEDT
BEGIN:STANDARD
DTSTART:19700101T010000
TZOFFSETFROM:+1100
TZOFFSETTO:+1100
END:STANDARD
END:VTIMEZONE
BEGIN:VEVENT
UID:scnitm-3355483-1776773470-1
DTSTART;TZID=my/AEST:20090812T140000
DTEND;TZID=my/AEST:20090812T150000
SUMMARY:Applied Maths Seminar: Froyland -- Identification and tracking of coherent features in oceanic and atmospheric flows
DESCRIPTION:See scnews item https://talus.maths.usyd.edu.au/s/scnitm/dullin-AppliedMathsSeminar-Froyl
LOCATION:Eastern Avenue Lecture Theatre
END:VEVENT
END:VCALENDAR

