BEGIN:VCALENDAR
PRODID:scnitm
VERSION:2.0
BEGIN:VTIMEZONE
TZID:my/AEST
BEGIN:STANDARD
DTSTART:19700101T010000
TZOFFSETFROM:+1000
TZOFFSETTO:+1000
END:STANDARD
END:VTIMEZONE
BEGIN:VTIMEZONE
TZID:my/AEDT
BEGIN:STANDARD
DTSTART:19700101T010000
TZOFFSETFROM:+1100
TZOFFSETTO:+1100
END:STANDARD
END:VTIMEZONE
BEGIN:VEVENT
UID:scnitm-3357821-1776773773-1
DTSTART;TZID=my/AEST:20170814T170000
DTEND;TZID=my/AEST:20170814T180000
SUMMARY:MaPSS: Patrick Eades -- An Introduction to Geometric Optimisation Algorithms and Uncertainty
DESCRIPTION:See scnews item https://talus.maths.usyd.edu.au/s/scnitm/dominict-MaPSS-MathematicalPostgra-001
LOCATION:Carslaw 535A
END:VEVENT
END:VCALENDAR

