BEGIN:VCALENDAR
PRODID:scnitm
VERSION:2.0
BEGIN:VTIMEZONE
TZID:my/AEST
BEGIN:STANDARD
DTSTART:19700101T010000
TZOFFSETFROM:+1000
TZOFFSETTO:+1000
END:STANDARD
END:VTIMEZONE
BEGIN:VTIMEZONE
TZID:my/AEDT
BEGIN:STANDARD
DTSTART:19700101T010000
TZOFFSETFROM:+1100
TZOFFSETTO:+1100
END:STANDARD
END:VTIMEZONE
BEGIN:VEVENT
UID:scnitm-3355268-1776773448-1
DTSTART;TZID=my/AEDT:20180305T140000
DTEND;TZID=my/AEDT:20180305T150000
SUMMARY:Finite time blow up for harmonic map heat flow
DESCRIPTION:See scnews item https://talus.maths.usyd.edu.au/s/scnitm/dhauer-PDESeminar-PaulBryan-Fini
LOCATION:AGR Carslaw 829
END:VEVENT
END:VCALENDAR

