BEGIN:VCALENDAR
PRODID:scnitm
VERSION:2.0
BEGIN:VTIMEZONE
TZID:my/AEST
BEGIN:STANDARD
DTSTART:19700101T010000
TZOFFSETFROM:+1000
TZOFFSETTO:+1000
END:STANDARD
END:VTIMEZONE
BEGIN:VTIMEZONE
TZID:my/AEDT
BEGIN:STANDARD
DTSTART:19700101T010000
TZOFFSETFROM:+1100
TZOFFSETTO:+1100
END:STANDARD
END:VTIMEZONE
BEGIN:VEVENT
UID:scnitm-3357915-1776773781-1
DTSTART;TZID=my/AEST:20160905T140000
DTEND;TZID=my/AEST:20160905T150000
SUMMARY:Chaos and Synchronisation in Large Systems of Interacting Particles with Random Connections
DESCRIPTION:See scnews item https://talus.maths.usyd.edu.au/s/scnitm/dhauer-PDESeminar-JamesMacLaurin
LOCATION:AGR Carslaw 829
END:VEVENT
END:VCALENDAR

