BEGIN:VCALENDAR
PRODID:scnitm
VERSION:2.0
BEGIN:VTIMEZONE
TZID:my/AEST
BEGIN:STANDARD
DTSTART:19700101T010000
TZOFFSETFROM:+1000
TZOFFSETTO:+1000
END:STANDARD
END:VTIMEZONE
BEGIN:VTIMEZONE
TZID:my/AEDT
BEGIN:STANDARD
DTSTART:19700101T010000
TZOFFSETFROM:+1100
TZOFFSETTO:+1100
END:STANDARD
END:VTIMEZONE
BEGIN:VEVENT
UID:scnitm-3359537-1776773952-1
DTSTART;TZID=my/AEDT:20260216T110000
DTEND;TZID=my/AEDT:20260216T120000
SUMMARY:Yung:A Neumann problem on the domain in a 3-sphere bounded by the Clifford torus
DESCRIPTION:See scnews item https://talus.maths.usyd.edu.au/s/scnitm/daners-PDESeminar-Yung-ANeumannP
LOCATION:AGR Carslaw 829
END:VEVENT
END:VCALENDAR

