BEGIN:VCALENDAR
PRODID:scnitm
VERSION:2.0
BEGIN:VTIMEZONE
TZID:my/AEST
BEGIN:STANDARD
DTSTART:19700101T010000
TZOFFSETFROM:+1000
TZOFFSETTO:+1000
END:STANDARD
END:VTIMEZONE
BEGIN:VTIMEZONE
TZID:my/AEDT
BEGIN:STANDARD
DTSTART:19700101T010000
TZOFFSETFROM:+1100
TZOFFSETTO:+1100
END:STANDARD
END:VTIMEZONE
BEGIN:VEVENT
UID:scnitm-3357877-1776773778-1
DTSTART;TZID=my/AEST:20120910T140000
DTEND;TZID=my/AEST:20120910T150000
SUMMARY:PDE Seminar: Santra -- On a perturbed q-curvature problem in S4
DESCRIPTION:See scnews item https://talus.maths.usyd.edu.au/s/scnitm/daners-PDESeminar-Santra-OnAPert
LOCATION:AGR Carslaw 829
END:VEVENT
END:VCALENDAR

