BEGIN:VCALENDAR
PRODID:scnitm
VERSION:2.0
BEGIN:VTIMEZONE
TZID:my/AEST
BEGIN:STANDARD
DTSTART:19700101T010000
TZOFFSETFROM:+1000
TZOFFSETTO:+1000
END:STANDARD
END:VTIMEZONE
BEGIN:VTIMEZONE
TZID:my/AEDT
BEGIN:STANDARD
DTSTART:19700101T010000
TZOFFSETFROM:+1100
TZOFFSETTO:+1100
END:STANDARD
END:VTIMEZONE
BEGIN:VEVENT
UID:scnitm-3358699-1776773867-1
DTSTART;TZID=my/AEST:20110526T140000
DTEND;TZID=my/AEST:20110526T150000
SUMMARY:PDE Seminar: Polacik -- Nonnegative solutions of elliptic equations on symmetric domains and their nodal structure
DESCRIPTION:See scnews item https://talus.maths.usyd.edu.au/s/scnitm/daners-PDESeminar-Polacik-Nonneg
LOCATION:AGR Carslaw 829
END:VEVENT
END:VCALENDAR

