BEGIN:VCALENDAR
PRODID:scnitm
VERSION:2.0
BEGIN:VTIMEZONE
TZID:my/AEST
BEGIN:STANDARD
DTSTART:19700101T010000
TZOFFSETFROM:+1000
TZOFFSETTO:+1000
END:STANDARD
END:VTIMEZONE
BEGIN:VTIMEZONE
TZID:my/AEDT
BEGIN:STANDARD
DTSTART:19700101T010000
TZOFFSETFROM:+1100
TZOFFSETTO:+1100
END:STANDARD
END:VTIMEZONE
BEGIN:VEVENT
UID:scnitm-3354714-1776773375-1
DTSTART;TZID=my/AEST:20140428T140000
DTEND;TZID=my/AEST:20140428T150000
SUMMARY:PDE Seminar: Li -- Littlewood-Paley and Hardy space theory on spaces of homogeneous type in the sense of Coifman and Weiss via orthonormal wavelet bases
DESCRIPTION:See scnews item https://talus.maths.usyd.edu.au/s/scnitm/daners-PDESeminar-Li-Littlewood-
LOCATION:AGR Carslaw 829
END:VEVENT
END:VCALENDAR

