BEGIN:VCALENDAR
PRODID:scnitm
VERSION:2.0
BEGIN:VTIMEZONE
TZID:my/AEST
BEGIN:STANDARD
DTSTART:19700101T010000
TZOFFSETFROM:+1000
TZOFFSETTO:+1000
END:STANDARD
END:VTIMEZONE
BEGIN:VTIMEZONE
TZID:my/AEDT
BEGIN:STANDARD
DTSTART:19700101T010000
TZOFFSETFROM:+1100
TZOFFSETTO:+1100
END:STANDARD
END:VTIMEZONE
BEGIN:VEVENT
UID:scnitm-3356897-1776773638-1
DTSTART;TZID=my/AEDT:20131014T140000
DTEND;TZID=my/AEDT:20131014T150000
SUMMARY:PDE Seminar: Hastings -- A Comparison of Classical and Modern Methods for Ordinary Differential Equations
DESCRIPTION:See scnews item https://talus.maths.usyd.edu.au/s/scnitm/daners-PDESeminar-Hastings-AComp
LOCATION:AGR Carslaw 829
END:VEVENT
END:VCALENDAR

