BEGIN:VCALENDAR
PRODID:scnitm
VERSION:2.0
BEGIN:VTIMEZONE
TZID:my/AEST
BEGIN:STANDARD
DTSTART:19700101T010000
TZOFFSETFROM:+1000
TZOFFSETTO:+1000
END:STANDARD
END:VTIMEZONE
BEGIN:VTIMEZONE
TZID:my/AEDT
BEGIN:STANDARD
DTSTART:19700101T010000
TZOFFSETFROM:+1100
TZOFFSETTO:+1100
END:STANDARD
END:VTIMEZONE
BEGIN:VEVENT
UID:scnitm-3378786-1776778274-1
DTSTART;TZID=my/AEST:20250908T110000
DTEND;TZID=my/AEST:20250908T120000
SUMMARY:Curran: The stability of nonlinear waves and the Maslov index
DESCRIPTION:See scnews item https://talus.maths.usyd.edu.au/s/scnitm/daners-PDESeminar-Curran-TheStab
LOCATION:AGR Carslaw 829
END:VEVENT
END:VCALENDAR

