BEGIN:VCALENDAR
PRODID:scnitm
VERSION:2.0
BEGIN:VTIMEZONE
TZID:my/AEST
BEGIN:STANDARD
DTSTART:19700101T010000
TZOFFSETFROM:+1000
TZOFFSETTO:+1000
END:STANDARD
END:VTIMEZONE
BEGIN:VTIMEZONE
TZID:my/AEDT
BEGIN:STANDARD
DTSTART:19700101T010000
TZOFFSETFROM:+1100
TZOFFSETTO:+1100
END:STANDARD
END:VTIMEZONE
BEGIN:VEVENT
UID:scnitm-3355481-1776773470-1
DTSTART;TZID=my/AEST:20120917T140000
DTEND;TZID=my/AEST:20120917T150000
SUMMARY:PDE Seminar: Cirstea -- Local behaviour of singular solutions for nonlinear elliptic equations in divergence form
DESCRIPTION:See scnews item https://talus.maths.usyd.edu.au/s/scnitm/daners-PDESeminar-Cirstea-LocalB
LOCATION:AGR Carslaw 829
END:VEVENT
END:VCALENDAR

